BEGIN:VCALENDAR
VERSION:2.0
PRODID:-//Biblioteca UdeMedellín - ECPv6.9.1//NONSGML v1.0//EN
CALSCALE:GREGORIAN
METHOD:PUBLISH
X-WR-CALNAME:Biblioteca UdeMedellín
X-ORIGINAL-URL:https://biblioteca.udemedellin.edu.co
X-WR-CALDESC:Events for Biblioteca UdeMedellín
REFRESH-INTERVAL;VALUE=DURATION:PT1H
X-Robots-Tag:noindex
X-PUBLISHED-TTL:PT1H
BEGIN:VTIMEZONE
TZID:America/Bogota
BEGIN:STANDARD
TZOFFSETFROM:-0500
TZOFFSETTO:-0500
TZNAME:-05
DTSTART:20240101T000000
END:STANDARD
END:VTIMEZONE
BEGIN:VEVENT
DTSTART;TZID=America/Bogota:20240604T160000
DTEND;TZID=America/Bogota:20240604T170000
DTSTAMP:20260419T151555
CREATED:20240529T211723Z
LAST-MODIFIED:20240529T212226Z
UID:8474-1717516800-1717520400@biblioteca.udemedellin.edu.co
SUMMARY:¿cómo aplicar un estilo bibliográfico a 100 referencias en 2 minutos?
DESCRIPTION:El objetivo de este webinar es utilizar el gestor de referencias EndNote Online como herramienta para dar formato a las citas y referencias de mis proyectos de forma rápida y sencilla.
URL:https://biblioteca.udemedellin.edu.co/actividad/referencias-bibliograficas-usando-endnote/
END:VEVENT
BEGIN:VEVENT
DTSTART;TZID=America/Bogota:20240605T110000
DTEND;TZID=America/Bogota:20240605T113000
DTSTAMP:20260419T151555
CREATED:20240529T205231Z
LAST-MODIFIED:20240529T210353Z
UID:8471-1717585200-1717587000@biblioteca.udemedellin.edu.co
SUMMARY:Cómo aumentar la visibilidad de su publicación
DESCRIPTION:Una vez que su investigación esté disponible en acceso abierto\, es fundamental promoverla para alcanzar a su audiencia. En este último webinar de la serie “Cómo publicar en Acceso Abierto”\, descubra estrategias efectivas de promoción\, aprenda cómo maximizar el impacto de su investigación y aumentar su visibilidad en la ccolca y más allá.
URL:https://biblioteca.udemedellin.edu.co/actividad/como-aumentar-la-visibilidad-de-su-publicacion/
LOCATION:Springer\, Colombia
END:VEVENT
BEGIN:VEVENT
DTSTART;TZID=America/Bogota:20240626T100000
DTEND;TZID=America/Bogota:20240626T120000
DTSTAMP:20260419T151555
CREATED:20240620T133149Z
LAST-MODIFIED:20240626T143935Z
UID:8506-1719396000-1719403200@biblioteca.udemedellin.edu.co
SUMMARY:Ética en la Investigación y Publicación Científica: Fundamentos y Buenas Prácticas
DESCRIPTION:Esta ponencia magistral tiene como objetivo proporcionar a los autores una comprensión profunda de los principios éticos fundamentales en la investigación y publicación científica. Se abordarán temas esenciales relacionados con la integridad académica\, la honestidad intelectual y las buenas prácticas que deben guiar el proceso de investigación y escritura científica
URL:https://biblioteca.udemedellin.edu.co/actividad/etica-en-la-investigacion-y-publicacion-cientifica-fundamentos-y-buenas-practicas/
END:VEVENT
END:VCALENDAR