BEGIN:VCALENDAR
VERSION:2.0
PRODID:-//Biblioteca UdeMedellín - ECPv6.9.1//NONSGML v1.0//EN
CALSCALE:GREGORIAN
METHOD:PUBLISH
X-ORIGINAL-URL:https://biblioteca.udemedellin.edu.co
X-WR-CALDESC:Events for Biblioteca UdeMedellín
REFRESH-INTERVAL;VALUE=DURATION:PT1H
X-Robots-Tag:noindex
X-PUBLISHED-TTL:PT1H
BEGIN:VTIMEZONE
TZID:America/Bogota
BEGIN:STANDARD
TZOFFSETFROM:-0500
TZOFFSETTO:-0500
TZNAME:-05
DTSTART:20240101T000000
END:STANDARD
END:VTIMEZONE
BEGIN:VEVENT
DTSTART;TZID=America/Bogota:20240507T130000
DTEND;TZID=America/Bogota:20240507T140000
DTSTAMP:20260419T182737
CREATED:20240503T223735Z
LAST-MODIFIED:20240503T223735Z
UID:8370-1715086800-1715090400@biblioteca.udemedellin.edu.co
SUMMARY:¿Cómo y donde publicar un artículo de alto impacto?
DESCRIPTION:El objetivo de este webinar es realizar un repaso general de todos los puntos esenciales que se requieren para mejorar mis habilidades como investigador haciendo uso de las herramientas de Clarivate
URL:https://biblioteca.udemedellin.edu.co/actividad/como-y-donde-publicar-un-articulo-de-alto-impacto-2/
END:VEVENT
BEGIN:VEVENT
DTSTART;TZID=America/Bogota:20240514T090000
DTEND;TZID=America/Bogota:20240514T100000
DTSTAMP:20260419T182737
CREATED:20240506T160004Z
LAST-MODIFIED:20240506T160004Z
UID:8375-1715677200-1715680800@biblioteca.udemedellin.edu.co
SUMMARY:Actualización de Papyrus 6.0
DESCRIPTION:En esta sesión se dará a conocer las actualizaciones que tenemos en esta nueva versión de Papyrus para así sacarle el mejor provecho a la herramienta
URL:https://biblioteca.udemedellin.edu.co/actividad/actualizacion-de-papyrus-6-0/
END:VEVENT
BEGIN:VEVENT
DTSTART;TZID=America/Bogota:20240515T100000
DTEND;TZID=America/Bogota:20240515T110000
DTSTAMP:20260419T182737
CREATED:20240509T165638Z
LAST-MODIFIED:20240509T165638Z
UID:8380-1715767200-1715770800@biblioteca.udemedellin.edu.co
SUMMARY:Publicar con Impacto: guía para navegar con éxito en el proceso de publicación Taylor & Francis
DESCRIPTION:Webinar sobre estrategias clave para aumentar el impacto de tus publicaciones académicas\, consejos prácticos para sortear los desafíos del proceso editorial
URL:https://biblioteca.udemedellin.edu.co/actividad/publicar-con-impacto-guia-para-navegar-con-exito-en-el-proceso-de-publicacion-taylor-francis/
END:VEVENT
BEGIN:VEVENT
DTSTART;TZID=America/Bogota:20240515T100000
DTEND;TZID=America/Bogota:20240515T120000
DTSTAMP:20260419T182737
CREATED:20240509T165129Z
LAST-MODIFIED:20240509T165129Z
UID:8378-1715767200-1715774400@biblioteca.udemedellin.edu.co
SUMMARY:Fundamentos de la Investigación y Planteamiento de Preguntas de Investigación
DESCRIPTION:Esta sesión está diseñada para proporcionarte las bases necesarias para iniciar y desarrollar tu investigación académica utilizando las poderosas herramientas de ScienceDirect y Scopus.
URL:https://biblioteca.udemedellin.edu.co/actividad/fundamentos-de-la-investigacion-y-planteamiento-de-preguntas-de-investigacion/
LOCATION:Campus Vivo de la Universidad de Medellín
END:VEVENT
BEGIN:VEVENT
DTSTART;TZID=America/Bogota:20240517T140000
DTEND;TZID=America/Bogota:20240517T150000
DTSTAMP:20260419T182737
CREATED:20240503T224153Z
LAST-MODIFIED:20240503T224153Z
UID:8372-1715954400-1715958000@biblioteca.udemedellin.edu.co
SUMMARY:Construyendo puentes: la integración de datos de investigación en el flujo editorial de las revistas científicas
DESCRIPTION:Recuento de las estrategias y políticas que pueden utilizar las revistas latinoamericanas para incorporar la gestión de datos de investigación dentro de sus procesos editoriales\, así como las estrategias para optimizar estas novedosas prácticas en marco de la ciencia abierta
URL:https://biblioteca.udemedellin.edu.co/actividad/construyendo-puentes-la-integracion-de-datos-de-investigacion-en-el-flujo-editorial-de-las-revistas-cientificas/
END:VEVENT
BEGIN:VEVENT
DTSTART;TZID=America/Bogota:20240522T110000
DTEND;TZID=America/Bogota:20240522T120000
DTSTAMP:20260419T182737
CREATED:20240520T222850Z
LAST-MODIFIED:20240520T222850Z
UID:8383-1716375600-1716379200@biblioteca.udemedellin.edu.co
SUMMARY:Mejores prácticas para enviar su manuscrito a una revista
DESCRIPTION:Webinar de la serie “Cómo publicar en Acceso Abierto”\, descubra las mejores prácticas para preparar y enviar su trabajo a la revista seleccionada\, desde los metadatos y el formato del manuscrito hasta la presentación de los archivos complementarios. Aprenda a navegar por los sistemas de gestión de manuscritos y a optimizar su proceso de envío para aumentar sus posibilidades de aceptación.
URL:https://biblioteca.udemedellin.edu.co/actividad/mejores-practicas-para-enviar-su-manuscrito-a-una-revista/
END:VEVENT
BEGIN:VEVENT
DTSTART;TZID=America/Bogota:20240528T130000
DTEND;TZID=America/Bogota:20240528T140000
DTSTAMP:20260419T182737
CREATED:20240520T223547Z
LAST-MODIFIED:20240520T223716Z
UID:8385-1716901200-1716904800@biblioteca.udemedellin.edu.co
SUMMARY:Creación de proyectos académicos y científicos exitosos
DESCRIPTION:El objetivo de este webinar es utilizar la Colección Principal de Web of Science y Scielo Citation Index como aliadas para respaldar mis ideas haciendo uso de la información más confiable\, novedosa e impactante de mi área de estudio.
URL:https://biblioteca.udemedellin.edu.co/actividad/creacion-de-proyectos-academicos-y-cientificos-exitosos/
END:VEVENT
BEGIN:VEVENT
DTSTART;TZID=America/Bogota:20240529T080000
DTEND;TZID=America/Bogota:20240529T170000
DTSTAMP:20260419T182737
CREATED:20240529T214449Z
LAST-MODIFIED:20240529T214449Z
UID:8482-1716969600-1717002000@biblioteca.udemedellin.edu.co
SUMMARY:Ética en la investigación y publicación científica: fundamentos y buenas práctica
DESCRIPTION:Proporciona a los autores una comprensión profunda de los principios éticos fundamentales en la investigación y publicación científica. Se abordarán temas esenciales relacionados con la integridad académica\, la honestidad intelectual y las buenas prácticas que deben guiar el proceso de investigación y escritura científica \n 
URL:https://biblioteca.udemedellin.edu.co/actividad/etica-en-la-investigacion-y-publicacion-cientifica-fundamentos-y-buenas-practica/
END:VEVENT
BEGIN:VEVENT
DTSTART;TZID=America/Bogota:20240529T150000
DTEND;TZID=America/Bogota:20240529T153000
DTSTAMP:20260419T182737
CREATED:20240520T224716Z
LAST-MODIFIED:20240520T224716Z
UID:8387-1716994800-1716996600@biblioteca.udemedellin.edu.co
SUMMARY:Publicar en acceso abierto son costo con Springer Nature
DESCRIPTION:Únase a nuestra serie de webinars sobre cómo publicar en acceso abierto con Springer Nature. Desde comprender los acuerdos de publicación hasta promover su trabajo\, estos webinars le proporcionarán las herramientas y conocimientos necesarios para aprovechar los beneficios de los acuerdos de publicación en acceso abierto con Springer Nature.
URL:https://biblioteca.udemedellin.edu.co/actividad/publicar-en-acceso-abierto-son-costo-con-springer-nature/
END:VEVENT
END:VCALENDAR