BEGIN:VCALENDAR
VERSION:2.0
PRODID:-//Biblioteca UdeMedellín - ECPv6.9.1//NONSGML v1.0//EN
CALSCALE:GREGORIAN
METHOD:PUBLISH
X-ORIGINAL-URL:https://biblioteca.udemedellin.edu.co
X-WR-CALDESC:Events for Biblioteca UdeMedellín
REFRESH-INTERVAL;VALUE=DURATION:PT1H
X-Robots-Tag:noindex
X-PUBLISHED-TTL:PT1H
BEGIN:VTIMEZONE
TZID:America/Bogota
BEGIN:STANDARD
TZOFFSETFROM:-0500
TZOFFSETTO:-0500
TZNAME:-05
DTSTART:20240101T000000
END:STANDARD
END:VTIMEZONE
BEGIN:VEVENT
DTSTART;TZID=America/Bogota:20240202T093000
DTEND;TZID=America/Bogota:20240202T113000
DTSTAMP:20260422T053501
CREATED:20240123T204728Z
LAST-MODIFIED:20240123T204728Z
UID:8240-1706866200-1706873400@biblioteca.udemedellin.edu.co
SUMMARY:Aprovechando al máximo su experiencia como cliente
DESCRIPTION:Esta sesión se dirige a los clientes de EBSCO\, miembros del staff de biblioteca encargados de la gestión y administración de los recursos suscritos. Se compartiran tips para el mejor aprovechamiento del sitio de soporte de EBSCO Connect
URL:https://biblioteca.udemedellin.edu.co/actividad/aprovechando-al-maximo-su-experiencia-como-cliente/
LOCATION:Ebsco
END:VEVENT
BEGIN:VEVENT
DTSTART;TZID=America/Bogota:20240202T140000
DTEND;TZID=America/Bogota:20240202T160000
DTSTAMP:20260422T053501
CREATED:20240123T210154Z
LAST-MODIFIED:20240123T210154Z
UID:8243-1706882400-1706889600@biblioteca.udemedellin.edu.co
SUMMARY:Estrategias de enseñanza y aprendizaje para el uso efectivo de las bases de datos de EBSCO
DESCRIPTION:Esta sesión va dirigida a todos aquellos encargados de la formación de usuarios finales de los recursos de la biblioteca\, al cual se le facilitarán los elementos para que pueda desarrollar cursos de acuerdo al público meta\, la modalidad de las sesiones y seguir una estrategia de presentación
URL:https://biblioteca.udemedellin.edu.co/actividad/estrategias-de-ensenanza-y-aprendizaje-para-el-uso-efectivo-de-las-bases-de-datos-de-ebsco/
END:VEVENT
BEGIN:VEVENT
DTSTART;TZID=America/Bogota:20240205T150000
DTEND;TZID=America/Bogota:20240205T160000
DTSTAMP:20260422T053501
CREATED:20240205T135914Z
LAST-MODIFIED:20240205T135914Z
UID:8263-1707145200-1707148800@biblioteca.udemedellin.edu.co
SUMMARY:Estrategias de enseñanza y aprendizaje para el uso efectivo de las bases de datos de EBSCO
DESCRIPTION:Esta sesión va dirigida a todos aquellos encargados de la formación de usuarios finales de los recursos de la biblioteca\, al cual se le facilitarán los elementos para que pueda desarrollar cursos de acuerdo al público meta\, la modalidad de las sesiones y seguir una estrategia de presentación
URL:https://biblioteca.udemedellin.edu.co/actividad/estrategias-de-ensenanza-y-aprendizaje-para-el-uso-efectivo-de-las-bases-de-datos-de-ebsco-2/
END:VEVENT
BEGIN:VEVENT
DTSTART;TZID=America/Bogota:20240212T120000
DTEND;TZID=America/Bogota:20240212T130000
DTSTAMP:20260422T053501
CREATED:20240206T141428Z
LAST-MODIFIED:20240206T141428Z
UID:8266-1707739200-1707742800@biblioteca.udemedellin.edu.co
SUMMARY:Conozca la Nueva Interfaz de Usuario de EBSCOhost (Equipos de biblioteca)
DESCRIPTION:En esta sesión hará un recorrido por la nueva interfaz\, funcionalidad y herramientas de EBSCOhost. Así mismo\, se podrán observar los beneficios y accesibilidad de los recursos desde la nueva interfaz. \n 
URL:https://biblioteca.udemedellin.edu.co/actividad/conozca-la-nueva-interfaz-de-usuario-de-ebscohost-equipos-de-biblioteca/
END:VEVENT
END:VCALENDAR