BEGIN:VCALENDAR
VERSION:2.0
PRODID:-//Biblioteca UdeMedellín - ECPv6.9.1//NONSGML v1.0//EN
CALSCALE:GREGORIAN
METHOD:PUBLISH
X-ORIGINAL-URL:https://biblioteca.udemedellin.edu.co
X-WR-CALDESC:Events for Biblioteca UdeMedellín
REFRESH-INTERVAL;VALUE=DURATION:PT1H
X-Robots-Tag:noindex
X-PUBLISHED-TTL:PT1H
BEGIN:VTIMEZONE
TZID:America/Bogota
BEGIN:STANDARD
TZOFFSETFROM:-0500
TZOFFSETTO:-0500
TZNAME:-05
DTSTART:20230101T000000
END:STANDARD
END:VTIMEZONE
BEGIN:VEVENT
DTSTART;TZID=America/Bogota:20231207T100000
DTEND;TZID=America/Bogota:20231207T110000
DTSTAMP:20260422T163642
CREATED:20230215T200622Z
LAST-MODIFIED:20230215T200642Z
UID:6325-1701943200-1701946800@biblioteca.udemedellin.edu.co
SUMMARY:SOLE Mendeley y Science Direct
DESCRIPTION:Participa en el taller práctico sobre las plataformas ScienceDirect & Mendeley a través de la metodología SOLE (Self-Organized Learning Environment-)\, la cual propone espacios de aprendizaje colaborativo usando Internet
URL:https://biblioteca.udemedellin.edu.co/actividad/sole-mendeley-y-science-direct/
END:VEVENT
BEGIN:VEVENT
DTSTART;TZID=America/Bogota:20231207T150000
DTEND;TZID=America/Bogota:20231207T160000
DTSTAMP:20260422T163642
CREATED:20230215T201138Z
LAST-MODIFIED:20230215T201138Z
UID:6328-1701961200-1701964800@biblioteca.udemedellin.edu.co
SUMMARY:SOLE Mendeley y Science Direct
DESCRIPTION:Participa en el taller práctico de las plataformas ScienceDirect & Mendeley a través de la metodología SOLE (Self-Organized Learning Environment-)\, la cual propone espacios de aprendizaje colaborativo usando Internet
URL:https://biblioteca.udemedellin.edu.co/actividad/sole-mendeley-y-science-direct-2/
END:VEVENT
END:VCALENDAR