BEGIN:VCALENDAR
VERSION:2.0
PRODID:-//Biblioteca UdeMedellín - ECPv6.9.1//NONSGML v1.0//EN
CALSCALE:GREGORIAN
METHOD:PUBLISH
X-ORIGINAL-URL:https://biblioteca.udemedellin.edu.co
X-WR-CALDESC:Events for Biblioteca UdeMedellín
REFRESH-INTERVAL;VALUE=DURATION:PT1H
X-Robots-Tag:noindex
X-PUBLISHED-TTL:PT1H
BEGIN:VTIMEZONE
TZID:America/Bogota
BEGIN:STANDARD
TZOFFSETFROM:-0500
TZOFFSETTO:-0500
TZNAME:-05
DTSTART:20230101T000000
END:STANDARD
END:VTIMEZONE
BEGIN:VEVENT
DTSTART;TZID=America/Bogota:20231107T110000
DTEND;TZID=America/Bogota:20231107T120000
DTSTAMP:20260423T004032
CREATED:20231102T164819Z
LAST-MODIFIED:20231102T164819Z
UID:8118-1699354800-1699358400@biblioteca.udemedellin.edu.co
SUMMARY:Herramientas para potenciar la enseñanza y el aprendizaje con Elsevier
DESCRIPTION:Sesión de capacitación virtual en la cual revisaremos el ciclo de las publicaciones y todos los entes involucrados para una mejor elaboración de documentos con el objetivo de una mayor aceptación en la evaluación de artículos. Esta sesión también sirve como un acercamiento para los editores institucionales al obtener sugerencias sobre la vista de editores de revistas de Elsevier para la evaluación y aceptación de artículos.
URL:https://biblioteca.udemedellin.edu.co/actividad/herramientas-para-potenciar-la-ensenanza-y-el-aprendizaje-con-elsevier/
END:VEVENT
BEGIN:VEVENT
DTSTART;TZID=America/Bogota:20231114T110000
DTEND;TZID=America/Bogota:20231114T120000
DTSTAMP:20260423T004032
CREATED:20231102T193347Z
LAST-MODIFIED:20231102T193347Z
UID:8120-1699959600-1699963200@biblioteca.udemedellin.edu.co
SUMMARY:Estrategias de Búsqueda Avanzada en la revista Nature
DESCRIPTION:Únete a esta capacitación imperdible que te revelará las mejores estrategias de Búsqueda Avanzada en la plataforma Nature. Descubre cómo profundizar tu investigación\, encontrar información crucial de manera efectiva. No pierda esta oportunidad de mejorar sus habilidades de investigación y lograr resultados excepcionales.
URL:https://biblioteca.udemedellin.edu.co/actividad/estrategias-de-busqueda-avanzada-en-la-revista-nature/
END:VEVENT
BEGIN:VEVENT
DTSTART;TZID=America/Bogota:20231123T150000
DTEND;TZID=America/Bogota:20231123T160000
DTSTAMP:20260423T004032
CREATED:20231102T161414Z
LAST-MODIFIED:20231102T161414Z
UID:8116-1700751600-1700755200@biblioteca.udemedellin.edu.co
SUMMARY:La Investigación sobre los Objetivos de Desarrollo Sostenible (ODS) en la plataforma SpringerLink
DESCRIPTION:Sesión virtual sobre la Investigación sobre los Objetivos de Desarrollo Sostenible (ODS) en la plataforma SpringerLink – Consorcio Colombia
URL:https://biblioteca.udemedellin.edu.co/actividad/la-investigacion-sobre-los-objetivos-de-desarrollo-sostenible-ods-en-la-plataforma-springerlink/
END:VEVENT
END:VCALENDAR