BEGIN:VCALENDAR
VERSION:2.0
PRODID:-//Biblioteca UdeMedellín - ECPv6.9.1//NONSGML v1.0//EN
CALSCALE:GREGORIAN
METHOD:PUBLISH
X-WR-CALNAME:Biblioteca UdeMedellín
X-ORIGINAL-URL:https://biblioteca.udemedellin.edu.co
X-WR-CALDESC:Events for Biblioteca UdeMedellín
REFRESH-INTERVAL;VALUE=DURATION:PT1H
X-Robots-Tag:noindex
X-PUBLISHED-TTL:PT1H
BEGIN:VTIMEZONE
TZID:America/Bogota
BEGIN:STANDARD
TZOFFSETFROM:-0500
TZOFFSETTO:-0500
TZNAME:-05
DTSTART:20230101T000000
END:STANDARD
END:VTIMEZONE
BEGIN:VEVENT
DTSTART;TZID=America/Bogota:20231005T100000
DTEND;TZID=America/Bogota:20231005T230000
DTSTAMP:20260423T063815
CREATED:20230215T194354Z
LAST-MODIFIED:20230215T194354Z
UID:6321-1696500000-1696546800@biblioteca.udemedellin.edu.co
SUMMARY:Funcionalidades compartidas de Mendeley
DESCRIPTION:Mediante este sesión virtual conoce las funcionalidasdes compartidas que que nos ofrece el gstor bibliográfico Mendeley\, tales como: grupos\, carpetas etc. \n 
URL:https://biblioteca.udemedellin.edu.co/actividad/funcionalidades-compartidas-de-mendeley/
END:VEVENT
BEGIN:VEVENT
DTSTART;TZID=America/Bogota:20231005T150000
DTEND;TZID=America/Bogota:20231005T160000
DTSTAMP:20260423T063815
CREATED:20230215T194757Z
LAST-MODIFIED:20230215T195043Z
UID:6323-1696518000-1696521600@biblioteca.udemedellin.edu.co
SUMMARY:Funcionalidades compartidas de Mendeley
DESCRIPTION:Mediante este sesión virtual conoce las funcionalidasdes compartidas que que nos ofrece el gstor bibliográfico Mendeley\, tales como: grupos\, carpetas etc.
URL:https://biblioteca.udemedellin.edu.co/actividad/funcionalidades-compartidas-de-mendeley-2/
END:VEVENT
BEGIN:VEVENT
DTSTART;TZID=America/Bogota:20231011T150000
DTEND;TZID=America/Bogota:20231011T160000
DTSTAMP:20260423T063815
CREATED:20231002T140227Z
LAST-MODIFIED:20231002T142707Z
UID:7931-1697036400-1697040000@biblioteca.udemedellin.edu.co
SUMMARY:Objetivos de Desarrollo Sostenible (ODS) en la plataforma Nature
DESCRIPTION:Participa en nuestra capacitación\, donde exploraremos  el universo de recursos sobre los Objetivos de Desarrollo Sostenible (ODS) disponibles en la plataforma nature.com y conoce las mejores estrategias de búsqueda para optimizar sus resultados.
URL:https://biblioteca.udemedellin.edu.co/actividad/objetivos-de-desarrollo-sostenible-ods-en-la-plataforma-nature/
END:VEVENT
BEGIN:VEVENT
DTSTART;TZID=America/Bogota:20231024T100000
DTEND;TZID=America/Bogota:20231024T110000
DTSTAMP:20260423T063815
CREATED:20231002T144808Z
LAST-MODIFIED:20231002T160150Z
UID:7936-1698141600-1698145200@biblioteca.udemedellin.edu.co
SUMMARY:Estrategias de Búsqueda Avanzada en Springer Link
DESCRIPTION:Capacitación para aprender las mejores estrategias de Búsqueda Avanzada en la base de datos SpringerLink. Descubra cómo profundizar su investigación\, encontrar información crucial y optimizar los resultados de su búsqueda de manera efectiva. No pierda esta oportunidad de mejorar sus habilidades de investigación y lograr resultados excepcionales.
URL:https://biblioteca.udemedellin.edu.co/actividad/7936/
END:VEVENT
BEGIN:VEVENT
DTSTART;TZID=America/Bogota:20231030T160000
DTEND;TZID=America/Bogota:20231030T170000
DTSTAMP:20260423T063815
CREATED:20231025T213540Z
LAST-MODIFIED:20231025T213540Z
UID:7973-1698681600-1698685200@biblioteca.udemedellin.edu.co
SUMMARY:Consorcio Colombiano - Sage
DESCRIPTION:Capacitación virtual para explicar cómo funciona la plataforma de libros y revistas digitales Sage: opciones de búsuqeda\, filtros\, descarga de documentos\, entre otras funciones de esta base de datos científica.
URL:https://biblioteca.udemedellin.edu.co/actividad/consorcio-colombiano-sage/
END:VEVENT
BEGIN:VEVENT
DTSTART;TZID=America/Bogota:20231031T110000
DTEND;TZID=America/Bogota:20231031T120000
DTSTAMP:20260423T063815
CREATED:20231027T143900Z
LAST-MODIFIED:20231027T143900Z
UID:7975-1698750000-1698753600@biblioteca.udemedellin.edu.co
SUMMARY:Beneficios de la publicación de "Un número especial" con Elsevier
DESCRIPTION:Beneficios de la publicación de “Un número especial” con Elsevier – Como autor\, es posible que en algún momento de tu carrera tengas la oportunidad de contribuir a un número especial. Un número especial brinda una excelente oportunidad para revisar un tema en particular\, examinar aspectos no abordados anteriormente\, proponer y desarrollar nuevos enfoques\, intercambiar perspectivas y fomentar nuevas líneas de investigación.
URL:https://biblioteca.udemedellin.edu.co/actividad/beneficios-de-la-publicacion-de-un-numero-especial-con-elsevier/
END:VEVENT
END:VCALENDAR