BEGIN:VCALENDAR
VERSION:2.0
PRODID:-//Biblioteca UdeMedellín - ECPv6.9.1//NONSGML v1.0//EN
CALSCALE:GREGORIAN
METHOD:PUBLISH
X-WR-CALNAME:Biblioteca UdeMedellín
X-ORIGINAL-URL:https://biblioteca.udemedellin.edu.co
X-WR-CALDESC:Events for Biblioteca UdeMedellín
REFRESH-INTERVAL;VALUE=DURATION:PT1H
X-Robots-Tag:noindex
X-PUBLISHED-TTL:PT1H
BEGIN:VTIMEZONE
TZID:America/Bogota
BEGIN:STANDARD
TZOFFSETFROM:-0500
TZOFFSETTO:-0500
TZNAME:-05
DTSTART:20230101T000000
END:STANDARD
END:VTIMEZONE
BEGIN:VEVENT
DTSTART;TZID=America/Bogota:20230810T100000
DTEND;TZID=America/Bogota:20230810T110000
DTSTAMP:20260425T182717
CREATED:20230215T165238Z
LAST-MODIFIED:20230215T165238Z
UID:6252-1691661600-1691665200@biblioteca.udemedellin.edu.co
SUMMARY:Organiza tu ciclo de investigación con Scopus y Mendeley
DESCRIPTION:Renueva tus conocimientos sobre Mendeley. Esta sesión tiene como objetivo ayudarte a optimizar el uso del gestor bibliográfico y  complementarlo con herrmaientas como Scopus
URL:https://biblioteca.udemedellin.edu.co/actividad/organiza-tu-ciclo-de-investigacion-con-scopus-y-mendeley/
END:VEVENT
BEGIN:VEVENT
DTSTART;TZID=America/Bogota:20230810T150000
DTEND;TZID=America/Bogota:20230810T160000
DTSTAMP:20260425T182717
CREATED:20230215T165521Z
LAST-MODIFIED:20230215T193735Z
UID:6254-1691679600-1691683200@biblioteca.udemedellin.edu.co
SUMMARY:Organiza tu ciclo de investigación con Scopus y Mendeley
DESCRIPTION:Renueva tus conocimientos sobre Mendeley. Esta sesión tiene como objetivo ayudarte a optimizar el uso del gestor bibliográfico y  complementarlo con herrmaientas como Scopus
URL:https://biblioteca.udemedellin.edu.co/actividad/organiza-tu-ciclo-de-investigacion-con-scopus-y-mendeley-2/
END:VEVENT
BEGIN:VEVENT
DTSTART;TZID=America/Bogota:20230829T110000
DTEND;TZID=America/Bogota:20230829T120000
DTSTAMP:20260425T182717
CREATED:20230822T222556Z
LAST-MODIFIED:20230822T222617Z
UID:7896-1693306800-1693310400@biblioteca.udemedellin.edu.co
SUMMARY:El impacto de tu perfil de autor de Scopus
DESCRIPTION:Esta capacitación virtual tiene como objetivo explicar  la naturaleza y beneficios del perfil de autor en Scopus para la visibilidad de los autores\, así como algunas prácticas para mejorar la visibilidad de los investigadores
URL:https://biblioteca.udemedellin.edu.co/actividad/el-impacto-de-tu-perfil-de-autor-de-scopus/
END:VEVENT
BEGIN:VEVENT
DTSTART;TZID=America/Bogota:20230830T180000
DTEND;TZID=America/Bogota:20230830T200000
DTSTAMP:20260425T182717
CREATED:20230822T223320Z
LAST-MODIFIED:20230830T194604Z
UID:7898-1693418400-1693425600@biblioteca.udemedellin.edu.co
SUMMARY:Exposición artística "Gardel en Imagenes"
DESCRIPTION:En esta exposición de arte tendremos la oportunidad de observar  18 fotografías de la cotidianidad de la leyenda del tango Carlos Gardel. Invitamos a toda la Universidad a visitar la exposición que estará durante todo el mes de agosto en la Biblioteca Eduardo Fernández Botero
URL:https://biblioteca.udemedellin.edu.co/actividad/exposicion-artistica-gardel-en-imagenes/
END:VEVENT
END:VCALENDAR