BEGIN:VCALENDAR
VERSION:2.0
PRODID:-//Biblioteca UdeMedellín - ECPv6.9.1//NONSGML v1.0//EN
CALSCALE:GREGORIAN
METHOD:PUBLISH
X-WR-CALNAME:Biblioteca UdeMedellín
X-ORIGINAL-URL:https://biblioteca.udemedellin.edu.co
X-WR-CALDESC:Events for Biblioteca UdeMedellín
REFRESH-INTERVAL;VALUE=DURATION:PT1H
X-Robots-Tag:noindex
X-PUBLISHED-TTL:PT1H
BEGIN:VTIMEZONE
TZID:America/Bogota
BEGIN:STANDARD
TZOFFSETFROM:-0500
TZOFFSETTO:-0500
TZNAME:-05
DTSTART:20260101T000000
END:STANDARD
END:VTIMEZONE
BEGIN:VEVENT
DTSTART;TZID=America/Bogota:20260414T120000
DTEND;TZID=America/Bogota:20260414T130000
DTSTAMP:20260424T094343
CREATED:20260409T162630Z
LAST-MODIFIED:20260409T162630Z
UID:9056-1776168000-1776171600@biblioteca.udemedellin.edu.co
SUMMARY:EBSCO eBooks en la colección de su biblioteca
DESCRIPTION:Sesión sobre búsquedas básicas\, descarga y acceso de libros electrónicos. Además\, la configuración de cada uno desde el modulo del administrador y los pasos para acceder a los EBSCO eBooks desde los diversos dispositivos móviles
URL:https://biblioteca.udemedellin.edu.co/actividad/ebsco-ebooks-en-la-coleccion-de-su-biblioteca-3/
CATEGORIES:Eventos
END:VEVENT
BEGIN:VEVENT
DTSTART;TZID=America/Bogota:20260415T170000
DTEND;TZID=America/Bogota:20260415T180000
DTSTAMP:20260424T094343
CREATED:20260325T163247Z
LAST-MODIFIED:20260325T163247Z
UID:9049-1776272400-1776276000@biblioteca.udemedellin.edu.co
SUMMARY:Academic Search: la base de datos multidisciplinar donde comienza toda investigación científica
DESCRIPTION:En esta sesión aprenderemos cómo realizar búsquedas avanzadas\, combinar búsquedas\, guardar resultados en carpetas personales\, crear alertas y conocer las herramientas y funcionalidades.
URL:https://biblioteca.udemedellin.edu.co/actividad/academic-search-la-base-de-datos-multidisciplinar-donde-comienza-toda-investigacion-cientifica/
CATEGORIES:Eventos
END:VEVENT
BEGIN:VEVENT
DTSTART;TZID=America/Bogota:20260429T060000
DTEND;TZID=America/Bogota:20260429T070000
DTSTAMP:20260424T094343
CREATED:20260325T165540Z
LAST-MODIFIED:20260325T165540Z
UID:9051-1777442400-1777446000@biblioteca.udemedellin.edu.co
SUMMARY:EBSCOHost: uso de tesauros\, descriptores y registro bibliográfico
DESCRIPTION:En esta sesión aprenderemos las herramientas avanzadas de búsqueda y la funcion de los tesauros y descriptores para lograr un mayor alcance en la recuperación de resultados\, así como mayor visibilidad de la producción científica
URL:https://biblioteca.udemedellin.edu.co/actividad/ebscohost-uso-de-tesauros-descriptores-y-registro-bibliografico/
CATEGORIES:Eventos
END:VEVENT
BEGIN:VEVENT
DTSTART;TZID=America/Bogota:20260511T100000
DTEND;TZID=America/Bogota:20260511T110000
DTSTAMP:20260424T094343
CREATED:20260424T141405Z
LAST-MODIFIED:20260424T141405Z
UID:9082-1778493600-1778497200@biblioteca.udemedellin.edu.co
SUMMARY:Herramientas básicas de Ebsco Host
DESCRIPTION:Capacitacion para conocer el uso general de la interfaz de EBSCOhost. Haremos un repaso por las opciones generales de búsqueda de la plataforma\, de igual manera\, la nueva estructura de revisión de los limitadores y manejo de resultados gracias a la creación de MiEBSCOhost y las opciones de almacenamiento.
URL:https://biblioteca.udemedellin.edu.co/actividad/herramientas-basicas-de-ebsco-host/
LOCATION:Ebsco
CATEGORIES:Eventos
END:VEVENT
BEGIN:VEVENT
DTSTART;TZID=America/Bogota:20260609T120000
DTEND;TZID=America/Bogota:20260609T130000
DTSTAMP:20260424T094343
CREATED:20260409T160252Z
LAST-MODIFIED:20260409T160252Z
UID:9054-1781006400-1781010000@biblioteca.udemedellin.edu.co
SUMMARY:Visibilidad de trabajos académicos - Ebsco
DESCRIPTION:Sesión de capacitación sobre las opciones y herramientas avanzadas de búsqueda de la plataforma Ebsco. Se presentarán estrategias avanzadas de búsqueda (búsqueda avanzada\, y búsquedas combinadas con el historial de búsqueda) así como el aprovechamiento de tesauros\, descriptores y registro detallado para lograr un mayor alcance en la recuperación de resultados\, así como mayor visibilidad de la producción científica.
URL:https://biblioteca.udemedellin.edu.co/actividad/visibilidad-de-trabajos-academicos-ebsco/
CATEGORIES:Eventos
END:VEVENT
END:VCALENDAR