BEGIN:VCALENDAR
VERSION:2.0
PRODID:-//Biblioteca UdeMedellín - ECPv6.9.1//NONSGML v1.0//EN
CALSCALE:GREGORIAN
METHOD:PUBLISH
X-ORIGINAL-URL:https://biblioteca.udemedellin.edu.co
X-WR-CALDESC:Events for Biblioteca UdeMedellín
REFRESH-INTERVAL;VALUE=DURATION:PT1H
X-Robots-Tag:noindex
X-PUBLISHED-TTL:PT1H
BEGIN:VTIMEZONE
TZID:America/Bogota
BEGIN:STANDARD
TZOFFSETFROM:-0500
TZOFFSETTO:-0500
TZNAME:-05
DTSTART:20260101T000000
END:STANDARD
END:VTIMEZONE
BEGIN:VEVENT
DTSTART;TZID=America/Bogota:20260216T110000
DTEND;TZID=America/Bogota:20260216T120000
DTSTAMP:20260419T140801
CREATED:20260204T153058Z
LAST-MODIFIED:20260204T153058Z
UID:8998-1771239600-1771243200@biblioteca.udemedellin.edu.co
SUMMARY:EBSCO eBooks en la colección de su biblioteca
DESCRIPTION:Sesión de nivel intermedio dirigida a bibliotecólogos y administradores que deseen conocer las colecciones de eBooks y Audiobooks que ofrece EBSCO\, así como el uso general de la interfaz de búsqueda EBSCOhost y su configuración desde el módulo de EBook Manager.
URL:https://biblioteca.udemedellin.edu.co/actividad/ebsco-ebooks-en-la-coleccion-de-su-biblioteca-2/
CATEGORIES:Eventos
END:VEVENT
END:VCALENDAR