BEGIN:VCALENDAR
VERSION:2.0
PRODID:-//Biblioteca UdeMedellín - ECPv6.9.1//NONSGML v1.0//EN
CALSCALE:GREGORIAN
METHOD:PUBLISH
X-WR-CALNAME:Biblioteca UdeMedellín
X-ORIGINAL-URL:https://biblioteca.udemedellin.edu.co
X-WR-CALDESC:Events for Biblioteca UdeMedellín
REFRESH-INTERVAL;VALUE=DURATION:PT1H
X-Robots-Tag:noindex
X-PUBLISHED-TTL:PT1H
BEGIN:VTIMEZONE
TZID:America/Bogota
BEGIN:STANDARD
TZOFFSETFROM:-0500
TZOFFSETTO:-0500
TZNAME:-05
DTSTART:20250101T000000
END:STANDARD
END:VTIMEZONE
BEGIN:VEVENT
DTSTART;TZID=America/Bogota:20250506T080000
DTEND;TZID=America/Bogota:20250506T210000
DTSTAMP:20260423T054551
CREATED:20250424T222329Z
LAST-MODIFIED:20250424T222329Z
UID:8809-1746518400-1746565200@biblioteca.udemedellin.edu.co
SUMMARY:Making the Most of Turnitin's AI-writting Report
DESCRIPTION:In this webinar\, it will be explained -in a simple and practical way- how Turnitin’s AI-writing prediction model works and how to increase its efficacy. Special attention will be paid to the way the model focuses on reducing false positives and how it is constantly updated and refined. In addition\, we will review how to interpret its results and present them to our students\, while leaving some time to discuss real cases and answer questions.
URL:https://biblioteca.udemedellin.edu.co/actividad/making-the-most-of-turnitins-ai-writting-report/
CATEGORIES:Eventos
END:VEVENT
END:VCALENDAR