BEGIN:VCALENDAR
VERSION:2.0
PRODID:-//Biblioteca UdeMedellín - ECPv6.9.1//NONSGML v1.0//EN
CALSCALE:GREGORIAN
METHOD:PUBLISH
X-WR-CALNAME:Biblioteca UdeMedellín
X-ORIGINAL-URL:https://biblioteca.udemedellin.edu.co
X-WR-CALDESC:Events for Biblioteca UdeMedellín
REFRESH-INTERVAL;VALUE=DURATION:PT1H
X-Robots-Tag:noindex
X-PUBLISHED-TTL:PT1H
BEGIN:VTIMEZONE
TZID:America/Bogota
BEGIN:STANDARD
TZOFFSETFROM:-0500
TZOFFSETTO:-0500
TZNAME:-05
DTSTART:20260101T000000
END:STANDARD
END:VTIMEZONE
BEGIN:VEVENT
DTSTART;TZID=America/Bogota:20260206T100000
DTEND;TZID=America/Bogota:20260206T110000
DTSTAMP:20260419T172640
CREATED:20260204T151610Z
LAST-MODIFIED:20260204T152731Z
UID:8994-1770372000-1770375600@biblioteca.udemedellin.edu.co
SUMMARY:EBSCOhost : herramientas básicas
DESCRIPTION:Sesión de nivel básico dirigida a usuarios finales y equipo de bilbiotecas que deseen conocer el uso de la nueva interfaz de EBSCOhost. Se hará un repaso por las opciones generales de búsqueda de la plataforma\, de igual manera\, la nueva estructura revisión de los limitadores y manejo de resultados gracias a la creación de MiEBSCOhost y las opciones de almacenamiento.
URL:https://biblioteca.udemedellin.edu.co/actividad/ebscohost-herramientas-basicas-2/
CATEGORIES:Eventos
END:VEVENT
BEGIN:VEVENT
DTSTART;TZID=America/Bogota:20260211T120000
DTEND;TZID=America/Bogota:20260211T130000
DTSTAMP:20260419T172640
CREATED:20260204T153530Z
LAST-MODIFIED:20260204T153530Z
UID:9000-1770811200-1770814800@biblioteca.udemedellin.edu.co
SUMMARY:EBSCO eBooks\, recuperación de títulos y mejores prácticas
DESCRIPTION:Esta sesión es de nivel básico y se dirige a usuarios finales que deseen conocer las colecciones de eBooks que ofrece EBSCO\, así como el uso general de la interfaz de búsqueda EBSCOhost y EBSCO Discovery Service. Se hará un repaso por la plataforma de búsqueda de EBSCO eBooks para conocer su acceso y visualización\, búsquedas básicas y avanzadas de libros electrónicos\, así como la descarga y el acceso en línea de cada uno.
URL:https://biblioteca.udemedellin.edu.co/actividad/ebsco-ebooks-recuperacion-de-titulos-y-mejores-practicas-2/
CATEGORIES:Eventos
END:VEVENT
BEGIN:VEVENT
DTSTART;TZID=America/Bogota:20260216T110000
DTEND;TZID=America/Bogota:20260216T120000
DTSTAMP:20260419T172640
CREATED:20260204T153058Z
LAST-MODIFIED:20260204T153058Z
UID:8998-1771239600-1771243200@biblioteca.udemedellin.edu.co
SUMMARY:EBSCO eBooks en la colección de su biblioteca
DESCRIPTION:Sesión de nivel intermedio dirigida a bibliotecólogos y administradores que deseen conocer las colecciones de eBooks y Audiobooks que ofrece EBSCO\, así como el uso general de la interfaz de búsqueda EBSCOhost y su configuración desde el módulo de EBook Manager.
URL:https://biblioteca.udemedellin.edu.co/actividad/ebsco-ebooks-en-la-coleccion-de-su-biblioteca-2/
CATEGORIES:Eventos
END:VEVENT
BEGIN:VEVENT
DTSTART;TZID=America/Bogota:20260224T070000
DTEND;TZID=America/Bogota:20260224T080000
DTSTAMP:20260419T172640
CREATED:20260204T162741Z
LAST-MODIFIED:20260204T162741Z
UID:9003-1771916400-1771920000@biblioteca.udemedellin.edu.co
SUMMARY:EBSCOhost: todo lo que necesita saber para su investigación científica
DESCRIPTION:En este webinar\, podrá exportar resultados en bloque\, exportar referencias bibliográficas\, crear alertas y conocer todas las opciones de búsqueda avanzada y las herramientas de optimización del tiempo en las búsquedas que ofrece la plataforma EBSCOhost.
URL:https://biblioteca.udemedellin.edu.co/actividad/ebscohost-todo-lo-que-necesita-saber-para-su-investigacion-cientifica/
CATEGORIES:Eventos
END:VEVENT
BEGIN:VEVENT
DTSTART;TZID=America/Bogota:20260226T073000
DTEND;TZID=America/Bogota:20260226T083000
DTSTAMP:20260419T172640
CREATED:20260204T164721Z
LAST-MODIFIED:20260204T164721Z
UID:9009-1772091000-1772094600@biblioteca.udemedellin.edu.co
SUMMARY:Business Source: fuentes de investigación en el ámbito empresarial
DESCRIPTION:Sesión dirigida a usuarios finales que deseen conocer la base de datos Business Source\, así como el uso general de la interfaz de búsqueda EBSCOhost .
URL:https://biblioteca.udemedellin.edu.co/actividad/business-source-fuentes-de-investigacion-en-el-ambito-empresarial/
CATEGORIES:Eventos
END:VEVENT
END:VCALENDAR