BEGIN:VCALENDAR
VERSION:2.0
PRODID:-//Biblioteca UdeMedellín - ECPv6.9.1//NONSGML v1.0//EN
CALSCALE:GREGORIAN
METHOD:PUBLISH
X-WR-CALNAME:Biblioteca UdeMedellín
X-ORIGINAL-URL:https://biblioteca.udemedellin.edu.co
X-WR-CALDESC:Events for Biblioteca UdeMedellín
REFRESH-INTERVAL;VALUE=DURATION:PT1H
X-Robots-Tag:noindex
X-PUBLISHED-TTL:PT1H
BEGIN:VTIMEZONE
TZID:America/Bogota
BEGIN:STANDARD
TZOFFSETFROM:-0500
TZOFFSETTO:-0500
TZNAME:-05
DTSTART:20250101T000000
END:STANDARD
END:VTIMEZONE
BEGIN:VEVENT
DTSTART;TZID=America/Bogota:20251216T070000
DTEND;TZID=America/Bogota:20251216T200000
DTSTAMP:20260419T225114
CREATED:20251203T143742Z
LAST-MODIFIED:20251203T143742Z
UID:8985-1765868400-1765915200@biblioteca.udemedellin.edu.co
SUMMARY:EBSCOhost: Herramientas básicas
DESCRIPTION:Sesión de nivel básico dirigida a usuarios finales y equipo de bilbiotecas que deseen conocer el uso general de la nueva interfaz de EBSCOhost. La duración es de 60 min. Se hará un repaso por las opciones generales de búsqueda de la plataforma\, de igual manera\, la nueva estructura revisión de los limitadores y manejo de resultados gracias a la creación de MiEBSCOhost y las opciones de almacenamiento.
URL:https://biblioteca.udemedellin.edu.co/actividad/ebscohost-herramientas-basicas/
CATEGORIES:Eventos
END:VEVENT
END:VCALENDAR