BEGIN:VCALENDAR
VERSION:2.0
PRODID:-//Biblioteca UdeMedellín - ECPv6.9.1//NONSGML v1.0//EN
CALSCALE:GREGORIAN
METHOD:PUBLISH
X-WR-CALNAME:Biblioteca UdeMedellín
X-ORIGINAL-URL:https://biblioteca.udemedellin.edu.co
X-WR-CALDESC:Events for Biblioteca UdeMedellín
REFRESH-INTERVAL;VALUE=DURATION:PT1H
X-Robots-Tag:noindex
X-PUBLISHED-TTL:PT1H
BEGIN:VTIMEZONE
TZID:America/Bogota
BEGIN:STANDARD
TZOFFSETFROM:-0500
TZOFFSETTO:-0500
TZNAME:-05
DTSTART:20250101T000000
END:STANDARD
END:VTIMEZONE
BEGIN:VEVENT
DTSTART;TZID=America/Bogota:20250903T140000
DTEND;TZID=America/Bogota:20250903T160000
DTSTAMP:20260421T073000
CREATED:20250715T202355Z
LAST-MODIFIED:20250715T202355Z
UID:8887-1756908000-1756915200@biblioteca.udemedellin.edu.co
SUMMARY:Uso de inteligencia artificial en contextos académicos: reflexiones sobre autoría y propiedad intelectual
DESCRIPTION:Analizar el uso de la inteligencia artificial en contextos académicos\, promoviendo una reflexión crítica sobre la autoría\, los derechos de propiedad intelectual y los desafíos éticos que surgen en la elaboración de trabajos universitarios asistidos por IA.
URL:https://biblioteca.udemedellin.edu.co/actividad/uso-de-inteligencia-artificial-en-contextos-academicos-reflexiones-sobre-autoria-y-propiedad-intelectual/
CATEGORIES:Eventos
END:VEVENT
BEGIN:VEVENT
DTSTART;TZID=America/Bogota:20250905T100000
DTEND;TZID=America/Bogota:20250905T233000
DTSTAMP:20260421T073000
CREATED:20250715T203306Z
LAST-MODIFIED:20250715T203306Z
UID:8891-1757066400-1757115000@biblioteca.udemedellin.edu.co
SUMMARY:Conferencia: microplásticos y salud humana
DESCRIPTION:Descubre qué son los microplásticos\, sus fuentes\, efectos en la salud humana y cómo podemos reducir su presencia en nuestro entorno diario.
URL:https://biblioteca.udemedellin.edu.co/actividad/conferencia-microplasticos-y-salud-humana/
CATEGORIES:Eventos
END:VEVENT
BEGIN:VEVENT
DTSTART;TZID=America/Bogota:20250916T140000
DTEND;TZID=America/Bogota:20250916T160000
DTSTAMP:20260421T073000
CREATED:20250715T204611Z
LAST-MODIFIED:20250715T204817Z
UID:8896-1758031200-1758038400@biblioteca.udemedellin.edu.co
SUMMARY:Taller de Bibliometria con Scopus y VOSViewer
DESCRIPTION:Aprende análisis bibliométrico con Scopus y VOSviewer para identificar tendencias\, redes científicas y mapas de conocimiento que apoyen la investigación y toma de decisiones.
URL:https://biblioteca.udemedellin.edu.co/actividad/taller-de-bibliometria-con-scopus-y-vosviewer/
CATEGORIES:Eventos
END:VEVENT
BEGIN:VEVENT
DTSTART;TZID=America/Bogota:20250923T160000
DTEND;TZID=America/Bogota:20250923T170000
DTSTAMP:20260421T073000
CREATED:20250715T205014Z
LAST-MODIFIED:20250715T205214Z
UID:8898-1758643200-1758646800@biblioteca.udemedellin.edu.co
SUMMARY:Humanos vs IA: detectores de plagio en la investigación académica
DESCRIPTION:Análisis del impacto de la escritura generada por IA y estrategias para identificar textos creados por modelos de lenguaje artificial.
URL:https://biblioteca.udemedellin.edu.co/actividad/humanos-vs-ia-detectores-de-plagio-en-la-investigacion-academica/
CATEGORIES:Eventos
END:VEVENT
END:VCALENDAR