BEGIN:VCALENDAR
VERSION:2.0
PRODID:-//Biblioteca UdeMedellín - ECPv6.9.1//NONSGML v1.0//EN
CALSCALE:GREGORIAN
METHOD:PUBLISH
X-WR-CALNAME:Biblioteca UdeMedellín
X-ORIGINAL-URL:https://biblioteca.udemedellin.edu.co
X-WR-CALDESC:Events for Biblioteca UdeMedellín
REFRESH-INTERVAL;VALUE=DURATION:PT1H
X-Robots-Tag:noindex
X-PUBLISHED-TTL:PT1H
BEGIN:VTIMEZONE
TZID:America/Bogota
BEGIN:STANDARD
TZOFFSETFROM:-0500
TZOFFSETTO:-0500
TZNAME:-05
DTSTART:20240101T000000
END:STANDARD
END:VTIMEZONE
BEGIN:VEVENT
DTSTART;TZID=America/Bogota:20240409T090000
DTEND;TZID=America/Bogota:20240409T100000
DTSTAMP:20260422T084934
CREATED:20240403T195739Z
LAST-MODIFIED:20240403T200833Z
UID:8354-1712653200-1712656800@biblioteca.udemedellin.edu.co
SUMMARY:Oxford Journals revisión contenidos revistas del área de Ciencias Sociales
DESCRIPTION:Sesión virtual en la cual vamos a explicar los contenidos para la enseñanza  y el aprendizaje de Oxford: búsqueda y recuperación de informaciónco
URL:https://biblioteca.udemedellin.edu.co/actividad/oxford-journals-revision-contenidos-revistas-del-area-de-ciencias-sociales/
END:VEVENT
END:VCALENDAR