BEGIN:VCALENDAR
VERSION:2.0
PRODID:-//Biblioteca UdeMedellín - ECPv6.9.1//NONSGML v1.0//EN
CALSCALE:GREGORIAN
METHOD:PUBLISH
X-ORIGINAL-URL:https://biblioteca.udemedellin.edu.co
X-WR-CALDESC:Events for Biblioteca UdeMedellín
REFRESH-INTERVAL;VALUE=DURATION:PT1H
X-Robots-Tag:noindex
X-PUBLISHED-TTL:PT1H
BEGIN:VTIMEZONE
TZID:America/Bogota
BEGIN:STANDARD
TZOFFSETFROM:-0500
TZOFFSETTO:-0500
TZNAME:-05
DTSTART:20240101T000000
END:STANDARD
END:VTIMEZONE
BEGIN:VEVENT
DTSTART;TZID=America/Bogota:20240331T080000
DTEND;TZID=America/Bogota:20240331T170000
DTSTAMP:20260422T053323
CREATED:20240315T161453Z
LAST-MODIFIED:20240318T160637Z
UID:8317-1711872000-1711904400@biblioteca.udemedellin.edu.co
SUMMARY:DEMO Sage Business Cases: Colección multidisciplinaria de casos
DESCRIPTION:Business Cases es una colección multidisciplinaria de más de 5\,500 casos de más de 120 países.  Inspira a los usuarios a desarrollar sus mejores prácticas y prepararse para el éxito profesional. Nuestra selección de casos cubre temas emergentes y poco atendidos\, que van más allá de la típica sala de juntas y presentan un entorno empresarial diverso y global para demostrar de forma práctica cómo se aplican las teorías en organizaciones reales. \nContabilidad\, Economía\, Emprendimiento\, Liderazgo\, Marketing\, Gestión de Operaciones\, Gestión de Recursos Humanos    Gestión Estratégica \nEl Demo estará activo hasta el 31 de marzo de 2024 \n 
URL:https://biblioteca.udemedellin.edu.co/actividad/demo-sage-business-cases-coleccion-multidisciplinaria-de-casos/
END:VEVENT
END:VCALENDAR