BEGIN:VCALENDAR
VERSION:2.0
PRODID:-//Biblioteca UdeMedellín - ECPv6.9.1//NONSGML v1.0//EN
CALSCALE:GREGORIAN
METHOD:PUBLISH
X-WR-CALNAME:Biblioteca UdeMedellín
X-ORIGINAL-URL:https://biblioteca.udemedellin.edu.co
X-WR-CALDESC:Events for Biblioteca UdeMedellín
REFRESH-INTERVAL;VALUE=DURATION:PT1H
X-Robots-Tag:noindex
X-PUBLISHED-TTL:PT1H
BEGIN:VTIMEZONE
TZID:America/Bogota
BEGIN:STANDARD
TZOFFSETFROM:-0500
TZOFFSETTO:-0500
TZNAME:-05
DTSTART:20240101T000000
END:STANDARD
END:VTIMEZONE
BEGIN:VEVENT
DTSTART;TZID=America/Bogota:20240313T100000
DTEND;TZID=America/Bogota:20240313T150000
DTSTAMP:20260422T052822
CREATED:20240311T212346Z
LAST-MODIFIED:20240311T212958Z
UID:8308-1710324000-1710342000@biblioteca.udemedellin.edu.co
SUMMARY:Conmemoración del Dia de la Mujer
DESCRIPTION:Conferencias alusivas al Día Internacional de la Mujer con la participación del pregrado en Ciencia Política\, Bienestar Universitario y la Biblioteca Eduardo Fernández Botero \n\n10:00 a.m. – 11:00 a.m. Transformando Futuros. Secretaría de la Mujer\n11:30 a.m. – 01:00 p.m. Empoderando el Futuro: Mujeres en la política\n01:00 p.m. – 3:00 p.m. Pulseras Poderosas e Hilos de Empoderamiento\n02:00 p.m. – 03:00 p.m. Palabras que Romper Barrera. Mujeres en la Literatura Juvenil
URL:https://biblioteca.udemedellin.edu.co/actividad/comemoracion-del-dia-de-la-mujer/
LOCATION:Biblioteca Eduardo Fernández Botero – Bloque 14 Universidad de Medellín
END:VEVENT
BEGIN:VEVENT
DTSTART;TZID=America/Bogota:20240313T170000
DTEND;TZID=America/Bogota:20240313T180000
DTSTAMP:20260422T052822
CREATED:20240123T211433Z
LAST-MODIFIED:20240123T211433Z
UID:8245-1710349200-1710352800@biblioteca.udemedellin.edu.co
SUMMARY:Optimización del tiempo de investigación con herramientas avanzadas de Ebsco
DESCRIPTION:Esta sesión es de nivel avanzado y se dirige a bibliotecólogos\, docentes\, investigadores y estudiantes que deseen conocer a detalle el uso de la plataforma de EBSCOhost. Se hará un repaso detallado por las opciones y herramientas avanzadas de búsqueda de la plataforma.
URL:https://biblioteca.udemedellin.edu.co/actividad/optimizacion-del-tiempo-de-investigacion-con-herramientas-avanzadas-de-ebsco/
END:VEVENT
END:VCALENDAR