BEGIN:VCALENDAR
VERSION:2.0
PRODID:-//Biblioteca UdeMedellín - ECPv6.9.1//NONSGML v1.0//EN
CALSCALE:GREGORIAN
METHOD:PUBLISH
X-WR-CALNAME:Biblioteca UdeMedellín
X-ORIGINAL-URL:https://biblioteca.udemedellin.edu.co
X-WR-CALDESC:Events for Biblioteca UdeMedellín
REFRESH-INTERVAL;VALUE=DURATION:PT1H
X-Robots-Tag:noindex
X-PUBLISHED-TTL:PT1H
BEGIN:VTIMEZONE
TZID:America/Bogota
BEGIN:STANDARD
TZOFFSETFROM:-0500
TZOFFSETTO:-0500
TZNAME:-05
DTSTART:20240101T000000
END:STANDARD
END:VTIMEZONE
BEGIN:VEVENT
DTSTART;TZID=America/Bogota:20240312T160000
DTEND;TZID=America/Bogota:20240312T170000
DTSTAMP:20260422T052822
CREATED:20240306T134824Z
LAST-MODIFIED:20240312T202748Z
UID:8301-1710259200-1710262800@biblioteca.udemedellin.edu.co
SUMMARY:¿Cómo y donde publicar un artículo de alto impacto?
DESCRIPTION:El objetivo de este webinar es realizar un repaso general de todos los puntos esenciales que se requieren para mejorar mis habilidades como investigador haciendo uso de las herramientas que mi Institución suscribe. \n1. Características de un artículo de alto impacto\n2. Importancia de la información y datos de tu artículo\n3. Qué se espera de mi artículo por parte de las editoriales?\n4. Qué debo esperar de la revista donde publicar?\n5. Cómo identificar revistas de calidad y de alto impacto?
URL:https://biblioteca.udemedellin.edu.co/actividad/como-y-donde-publicar-un-articulo-de-alto-impacto/
END:VEVENT
END:VCALENDAR