BEGIN:VCALENDAR
VERSION:2.0
PRODID:-//Biblioteca UdeMedellín - ECPv6.9.1//NONSGML v1.0//EN
CALSCALE:GREGORIAN
METHOD:PUBLISH
X-WR-CALNAME:Biblioteca UdeMedellín
X-ORIGINAL-URL:https://biblioteca.udemedellin.edu.co
X-WR-CALDESC:Events for Biblioteca UdeMedellín
REFRESH-INTERVAL;VALUE=DURATION:PT1H
X-Robots-Tag:noindex
X-PUBLISHED-TTL:PT1H
BEGIN:VTIMEZONE
TZID:America/Bogota
BEGIN:STANDARD
TZOFFSETFROM:-0500
TZOFFSETTO:-0500
TZNAME:-05
DTSTART:20230101T000000
END:STANDARD
END:VTIMEZONE
BEGIN:VEVENT
DTSTART;TZID=America/Bogota:20230926T110000
DTEND;TZID=America/Bogota:20230926T130000
DTSTAMP:20260425T172323
CREATED:20230901T141136Z
LAST-MODIFIED:20230901T141136Z
UID:7920-1695726000-1695733200@biblioteca.udemedellin.edu.co
SUMMARY:"Graphical abstracts" para mejorar la visibilidad de tus artículos
DESCRIPTION:Capacitación virtual enfocada en brindarte algunos tips de visualización de información para la creación de un resúmen gráfico sobre tus investigaciones.
URL:https://biblioteca.udemedellin.edu.co/actividad/graphical-abstracts-para-mejorar-la-visibilidad-de-tus-articulos/
END:VEVENT
END:VCALENDAR