BEGIN:VCALENDAR
VERSION:2.0
PRODID:-//Biblioteca UdeMedellín - ECPv6.9.1//NONSGML v1.0//EN
CALSCALE:GREGORIAN
METHOD:PUBLISH
X-WR-CALNAME:Biblioteca UdeMedellín
X-ORIGINAL-URL:https://biblioteca.udemedellin.edu.co
X-WR-CALDESC:Events for Biblioteca UdeMedellín
REFRESH-INTERVAL;VALUE=DURATION:PT1H
X-Robots-Tag:noindex
X-PUBLISHED-TTL:PT1H
BEGIN:VTIMEZONE
TZID:America/Bogota
BEGIN:STANDARD
TZOFFSETFROM:-0500
TZOFFSETTO:-0500
TZNAME:-05
DTSTART:20230101T000000
END:STANDARD
END:VTIMEZONE
BEGIN:VEVENT
DTSTART;TZID=America/Bogota:20230914T100000
DTEND;TZID=America/Bogota:20230914T120000
DTSTAMP:20260425T225456
CREATED:20230914T135047Z
LAST-MODIFIED:20230914T135047Z
UID:7923-1694685600-1694692800@biblioteca.udemedellin.edu.co
SUMMARY:Resolviendo problemas sociales a través de la ciencia: ¿qué están haciendo las ciencias físicas y las ingenierías?
DESCRIPTION:Sesión virtual en la que tenemos como autores invitados a: Fabienne-Fariba Salimi autor de A New Approach to HAZOP of Complex Chemical Processes\,  Benjamin Blass autor de Basic Principles of Drug Discovery and Development\, Aloysius Hepp autor de Biomimicry for Aerospace\, elseMarjan Eggermont autor de Biomimicry for Materials\, Design and Habitats Víctor Anthony García Rivera autor de Perovskite Ceramics
URL:https://biblioteca.udemedellin.edu.co/actividad/resolviendo-problemas-sociales-a-traves-de-la-ciencia-que-estan-haciendo-las-ciencias-fisicas-y-las-ingenierias/
END:VEVENT
END:VCALENDAR