BEGIN:VCALENDAR
VERSION:2.0
PRODID:-//Biblioteca UdeMedellín - ECPv6.9.1//NONSGML v1.0//EN
CALSCALE:GREGORIAN
METHOD:PUBLISH
X-WR-CALNAME:Biblioteca UdeMedellín
X-ORIGINAL-URL:https://biblioteca.udemedellin.edu.co
X-WR-CALDESC:Events for Biblioteca UdeMedellín
REFRESH-INTERVAL;VALUE=DURATION:PT1H
X-Robots-Tag:noindex
X-PUBLISHED-TTL:PT1H
BEGIN:VTIMEZONE
TZID:America/Bogota
BEGIN:STANDARD
TZOFFSETFROM:-0500
TZOFFSETTO:-0500
TZNAME:-05
DTSTART:20230101T000000
END:STANDARD
END:VTIMEZONE
BEGIN:VEVENT
DTSTART;TZID=America/Bogota:20230829T110000
DTEND;TZID=America/Bogota:20230829T120000
DTSTAMP:20260425T225518
CREATED:20230822T222556Z
LAST-MODIFIED:20230822T222617Z
UID:7896-1693306800-1693310400@biblioteca.udemedellin.edu.co
SUMMARY:El impacto de tu perfil de autor de Scopus
DESCRIPTION:Esta capacitación virtual tiene como objetivo explicar  la naturaleza y beneficios del perfil de autor en Scopus para la visibilidad de los autores\, así como algunas prácticas para mejorar la visibilidad de los investigadores
URL:https://biblioteca.udemedellin.edu.co/actividad/el-impacto-de-tu-perfil-de-autor-de-scopus/
END:VEVENT
END:VCALENDAR